BEGIN:VCALENDAR
VERSION:2.0
PRODID:-//The King’s Academy | Private Christian School in Tennessee - ECPv6.15.20//NONSGML v1.0//EN
CALSCALE:GREGORIAN
METHOD:PUBLISH
X-ORIGINAL-URL:https://www.thekingsacademy.net
X-WR-CALDESC:Events for The King’s Academy | Private Christian School in Tennessee
REFRESH-INTERVAL;VALUE=DURATION:PT1H
X-Robots-Tag:noindex
X-PUBLISHED-TTL:PT1H
BEGIN:VTIMEZONE
TZID:America/New_York
BEGIN:DAYLIGHT
TZOFFSETFROM:-0500
TZOFFSETTO:-0400
TZNAME:EDT
DTSTART:20250309T070000
END:DAYLIGHT
BEGIN:STANDARD
TZOFFSETFROM:-0400
TZOFFSETTO:-0500
TZNAME:EST
DTSTART:20251102T060000
END:STANDARD
BEGIN:DAYLIGHT
TZOFFSETFROM:-0500
TZOFFSETTO:-0400
TZNAME:EDT
DTSTART:20260308T070000
END:DAYLIGHT
BEGIN:STANDARD
TZOFFSETFROM:-0400
TZOFFSETTO:-0500
TZNAME:EST
DTSTART:20261101T060000
END:STANDARD
BEGIN:DAYLIGHT
TZOFFSETFROM:-0500
TZOFFSETTO:-0400
TZNAME:EDT
DTSTART:20270314T070000
END:DAYLIGHT
BEGIN:STANDARD
TZOFFSETFROM:-0400
TZOFFSETTO:-0500
TZNAME:EST
DTSTART:20271107T060000
END:STANDARD
END:VTIMEZONE
BEGIN:VEVENT
DTSTART;TZID=America/New_York:20260306T163000
DTEND;TZID=America/New_York:20260306T183000
DTSTAMP:20260419T092832
CREATED:20260303T054511Z
LAST-MODIFIED:20260306T060205Z
UID:20109-1772814600-1772821800@www.thekingsacademy.net
SUMMARY:HS Girls Basketball TSSAA DII-A FINAL FOUR
DESCRIPTION:3:30 CENTRAL TIME! 4:30 EASTERN TIME!
URL:https://www.thekingsacademy.net/event/hs-girls-basketball-tssaa-dii-a-final-four/
LOCATION:F&M Bank Arena\, 101 Main St\, Clarksville\, TN\, United States
GEO:36.528485;-87.360738
X-APPLE-STRUCTURED-LOCATION;VALUE=URI;X-ADDRESS=F&M Bank Arena 101 Main St Clarksville TN United States;X-APPLE-RADIUS=500;X-TITLE=101 Main St:geo:-87.360738,36.528485
END:VEVENT
END:VCALENDAR